BEGIN:VCALENDAR
VERSION:2.0
PRODID:-//ChamberMaster//Event Calendar 2.0//EN
METHOD:PUBLISH
X-PUBLISHED-TTL:P3D
REFRESH-INTERVAL:P3D
CALSCALE:GREGORIAN
BEGIN:VEVENT
DTSTART:20320218T171500Z
DTEND:20320219T180000Z
X-MICROSOFT-CDO-ALLDAYEVENT:FALSE
SUMMARY:Ambassador Meeting
DESCRIPTION:Ambassadors\, are you ready to take your community involvement to the next level? Join us for our recurring monthly Ambassador Meeting the perfect time to connect\, strategize\, and make a real difference together.\n\nWe meet on the third Wednesday of every month\, immediately following Power Hour.\n\nThis is your opportunity to connect with fellow ambassadors\, share successes\, brainstorm new ideas\, and get the latest updates. Whether you are looking to amplify your impact\, get behind-the-scenes insights\, or simply network with like-minded individuals\, this meeting is designed for you.\n\nBy consistently meeting\, we build stronger connections and keep our momentum going. Don't miss this chance to align on our upcoming goals and celebrate the wins from the past month.\n\nKey Details:\n\n\n	When: Third Wednesday of every month\n	Time: Right after Power Hour\n	Purpose: Networking\, strategizing\, and community growth\n\n\nBring your passion\, your feedback\, and your ideas. Let's make this year our best one yet.\n\nSee you there!
X-ALT-DESC;FMTTYPE=text/html:<div class="Y3BBE" data-hveid="CAIQAA" data-processed="true" data-sfc-cb="" data-sfc-cp="" jsaction="rcuQ6b:&amp\;biglW_b|npT2md" jscontroller="zcfIf" jsuid="biglW_b" style="background-color: rgb(255\, 255\, 255)\; font-family: &quot\;Google Sans&quot\;\, Roboto\, Arial\, sans-serif\; font-size: 16px\; line-height: 24px\; overflow-wrap: break-word\; margin-block: 12px 16px\; margin-inline: 0px\; color: rgb(10\, 10\, 10)\;">Ambassadors\, are you ready to take your community involvement to the next level? Join us for our recurring monthly Ambassador Meeting&mdash\;the perfect time to connect\, strategize\, and make a real difference together.</div>\n\n<div class="Y3BBE" data-hveid="CAMQAA" data-processed="true" data-sfc-cb="" data-sfc-cp="" jsaction="rcuQ6b:&amp\;biglW_c|npT2md" jscontroller="zcfIf" jsuid="biglW_c" style="background-color: rgb(255\, 255\, 255)\; font-family: &quot\;Google Sans&quot\;\, Roboto\, Arial\, sans-serif\; font-size: 16px\; line-height: 24px\; overflow-wrap: break-word\; margin-block: 12px 16px\; margin-inline: 0px\; color: rgb(10\, 10\, 10)\;">We meet on the&nbsp\;<span class="Yjhzub" data-sfc-cb="" jsaction="" jscontroller="zYmgkd" jsuid="biglW_d" style="font-weight: bolder\;">third Wednesday of every month</span>\, immediately following Power Hour.</div>\n\n<div class="Y3BBE" data-hveid="CAQQAA" data-processed="true" data-sfc-cb="" data-sfc-cp="" jsaction="rcuQ6b:&amp\;biglW_e|npT2md" jscontroller="zcfIf" jsuid="biglW_e" style="background-color: rgb(255\, 255\, 255)\; font-family: &quot\;Google Sans&quot\;\, Roboto\, Arial\, sans-serif\; font-size: 16px\; line-height: 24px\; overflow-wrap: break-word\; margin-block: 12px 16px\; margin-inline: 0px\; color: rgb(10\, 10\, 10)\;">This is your opportunity to connect with fellow ambassadors\, share successes\, brainstorm new ideas\, and get the latest updates. Whether you are looking to amplify your impact\, get behind-the-scenes insights\, or simply network with like-minded individuals\, this meeting is designed for you.</div>\n\n<div class="Y3BBE" data-hveid="CAUQAA" data-processed="true" data-sfc-cb="" data-sfc-cp="" jsaction="rcuQ6b:&amp\;biglW_f|npT2md" jscontroller="zcfIf" jsuid="biglW_f" style="background-color: rgb(255\, 255\, 255)\; font-family: &quot\;Google Sans&quot\;\, Roboto\, Arial\, sans-serif\; font-size: 16px\; line-height: 24px\; overflow-wrap: break-word\; margin-block: 12px 16px\; margin-inline: 0px\; color: rgb(10\, 10\, 10)\;">By consistently meeting\, we build stronger connections and keep our momentum going. Don&rsquo\;t miss this chance to align on our upcoming goals and celebrate the wins from the past month.</div>\n\n<div class="Y3BBE" data-hveid="CAYQAA" data-processed="true" data-sfc-cb="" data-sfc-cp="" jsaction="rcuQ6b:&amp\;biglW_g|npT2md" jscontroller="zcfIf" jsuid="biglW_g" style="background-color: rgb(255\, 255\, 255)\; font-family: &quot\;Google Sans&quot\;\, Roboto\, Arial\, sans-serif\; font-size: 16px\; line-height: 24px\; overflow-wrap: break-word\; margin-block: 12px 16px\; margin-inline: 0px\; color: rgb(10\, 10\, 10)\;"><span class="Yjhzub" data-sfc-cb="" jsaction="" jscontroller="zYmgkd" jsuid="biglW_h" style="font-weight: bolder\;">Key Details:</span></div>\n\n<ul class="KsbFXc U6u95" data-processed="true" data-sfc-cb="" jsaction="" jscontroller="mPWODf" jsuid="biglW_i" style="padding: 0px\; background-color: rgb(255\, 255\, 255)\; margin: 0px\; margin-block: 12px 16px\; font-family: &quot\;Google Sans&quot\;\, Roboto\, Arial\, sans-serif\; font-size: 16px\; line-height: 24px\; padding-inline-start: 16px\; margin-inline: 0px\; color: rgb(10\, 10\, 10)\;">\n	<li class="dF3vjf" data-hveid="CAcQAA" data-sfc-cb="" jsaction="" jscontroller="vsuOFb" jsuid="biglW_j" style="margin: 0px 0px 12px\; padding: 0px\; list-style: disc\; padding-inline-start: 4px\;"><span class="T286Pc" data-sfc-cb="" data-sfc-cp="" jsaction="" jscontroller="fly6D" jsuid="biglW_k" style="overflow-wrap: break-word\;"><span class="Yjhzub" data-sfc-cb="" jsaction="" jscontroller="zYmgkd" jsuid="biglW_l" style="font-weight: bolder\;">When:</span>&nbsp\;Third Wednesday of every month</span></li>\n	<li class="dF3vjf" data-hveid="CAcQAQ" data-sfc-cb="" jsaction="" jscontroller="vsuOFb" jsuid="biglW_m" style="margin: 0px 0px 12px\; padding: 0px\; list-style: disc\; padding-inline-start: 4px\;"><span class="T286Pc" data-sfc-cb="" data-sfc-cp="" jsaction="" jscontroller="fly6D" jsuid="biglW_n" style="overflow-wrap: break-word\;"><span class="Yjhzub" data-sfc-cb="" jsaction="" jscontroller="zYmgkd" jsuid="biglW_o" style="font-weight: bolder\;">Time:</span>&nbsp\;Right after Power Hour</span></li>\n	<li class="dF3vjf" data-hveid="CAcQAg" data-sfc-cb="" jsaction="" jscontroller="vsuOFb" jsuid="biglW_p" style="margin: 0px 0px 12px\; padding: 0px\; list-style: disc\; padding-inline-start: 4px\;"><span class="T286Pc" data-sfc-cb="" data-sfc-cp="" jsaction="" jscontroller="fly6D" jsuid="biglW_q" style="overflow-wrap: break-word\;"><span class="Yjhzub" data-sfc-cb="" jsaction="" jscontroller="zYmgkd" jsuid="biglW_r" style="font-weight: bolder\;">Purpose:</span>&nbsp\;Networking\, strategizing\, and community growth</span></li>\n</ul>\n\n<div class="Y3BBE" data-hveid="CAgQAA" data-processed="true" data-sfc-cb="" data-sfc-cp="" jsaction="rcuQ6b:&amp\;biglW_s|npT2md" jscontroller="zcfIf" jsuid="biglW_s" style="background-color: rgb(255\, 255\, 255)\; font-family: &quot\;Google Sans&quot\;\, Roboto\, Arial\, sans-serif\; font-size: 16px\; line-height: 24px\; overflow-wrap: break-word\; margin-block: 12px 16px\; margin-inline: 0px\; color: rgb(10\, 10\, 10)\;">Bring your passion\, your feedback\, and your ideas. Let&rsquo\;s make this year our best one yet.</div>\n\n<div class="Y3BBE" data-hveid="CAkQAA" data-processed="true" data-sfc-cb="" data-sfc-cp="" jsaction="rcuQ6b:&amp\;biglW_t|npT2md" jscontroller="zcfIf" jsuid="biglW_t" style="background-color: rgb(255\, 255\, 255)\; font-family: &quot\;Google Sans&quot\;\, Roboto\, Arial\, sans-serif\; font-size: 16px\; line-height: 24px\; overflow-wrap: break-word\; margin-block: 12px 16px\; margin-inline: 0px\; color: rgb(10\, 10\, 10)\;">See you there!</div>\n
LOCATION:J. F. Kicks Lithia Pinecrest Road
UID:e.3220.8883
SEQUENCE:3
DTSTAMP:20260421T044124Z
URL:https://business.valricofishhawk.org/events/details/ambassador-meeting-02-18-2032-8883
END:VEVENT

END:VCALENDAR
