BEGIN:VCALENDAR
VERSION:2.0
PRODID:-//ChamberMaster//Event Calendar 2.0//EN
METHOD:PUBLISH
X-PUBLISHED-TTL:P3D
REFRESH-INTERVAL:P3D
CALSCALE:GREGORIAN
BEGIN:VEVENT
DTSTART:20260710T020000Z
DTEND:20260710T030000Z
X-MICROSOFT-CDO-ALLDAYEVENT:FALSE
SUMMARY:Board Meeting
DESCRIPTION:Board Member meeting    VFCC Board of Directors will meet to discuss upcoming chamber events\, budgetary requests\, chamber issues\, concerns\, and recommendations.
X-ALT-DESC;FMTTYPE=text/html:Board Member meeting&nbsp\;&nbsp\;&nbsp\;&nbsp\;<span style="color: rgb(51\, 51\, 51)\; font-family: sans-serif\, Arial\, Verdana\, &quot\;Trebuchet MS&quot\;\; font-size: 13px\; background-color: rgb(255\, 255\, 255)\;">VFCC Board of Directors will meet to discuss upcoming chamber events\, budgetary requests\, chamber issues\, concerns\, and recommendations.</span>&nbsp\;&nbsp\;&nbsp\;&nbsp\;
LOCATION:Bloomingdale Library
UID:e.3220.8799
SEQUENCE:3
DTSTAMP:20260423T173327Z
URL:https://business.valricofishhawk.org/events/details/board-meeting-07-09-2026-8799
END:VEVENT

END:VCALENDAR
