BEGIN:VCALENDAR
VERSION:2.0
PRODID:-//ChamberMaster//Event Calendar 2.0//EN
METHOD:PUBLISH
X-PUBLISHED-TTL:P3D
REFRESH-INTERVAL:P3D
CALSCALE:GREGORIAN
BEGIN:VEVENT
DTSTART:20231006T230000Z
DTEND:20231007T020000Z
X-MICROSOFT-CDO-ALLDAYEVENT:FALSE
SUMMARY:Evening of Hope Annual Dinner
DESCRIPTION:Evening of Hope Annual Dinner for Angel Foundation of Florida
X-ALT-DESC;FMTTYPE=text/html:Evening of Hope Annual Dinner for Angel Foundation of Florida
LOCATION:The Regent 6437 Watson Rd Riverview\, FL
UID:e.3220.6771
SEQUENCE:3
DTSTAMP:20260422T172909Z
URL:https://business.valricofishhawk.org/events/details/evening-of-hope-annual-dinner-6771
END:VEVENT

END:VCALENDAR
