BEGIN:VCALENDAR
VERSION:2.0
PRODID:-//ChamberMaster//Event Calendar 2.0//EN
METHOD:PUBLISH
X-PUBLISHED-TTL:P3D
REFRESH-INTERVAL:P3D
CALSCALE:GREGORIAN
BEGIN:VEVENT
DTSTART:20230509T130000Z
DTEND:20230509T141500Z
X-MICROSOFT-CDO-ALLDAYEVENT:FALSE
SUMMARY:General Assembly
DESCRIPTION:Are you a member of the chamber?  Are you a business looking to interact with our chamber members and learn how we can help you grow your business?  Please join us every 2nd Tuesday of each month for this networking event.  On average we have about 60 different businesses in attendance.  Breakfast is provided!  We have two businesses sponsor this monthly event and have the opportunity to talk about their products and/or services.  We look forward to seeing you at this amazing event.
X-ALT-DESC;FMTTYPE=text/html:Are you a member of the chamber?&nbsp\; Are you a business looking to interact with our chamber members and learn how we can help you grow your business?&nbsp\; Please join us every 2nd Tuesday of each month for this networking event.&nbsp\; On average we have about 60 different businesses in attendance.&nbsp\; Breakfast is provided!&nbsp\; We have two businesses sponsor this monthly event and have the opportunity to talk about their products and/or services.&nbsp\; We look forward to seeing you at this amazing event.
LOCATION:VooDoo Brewing Company 3432 East Highway 60 Valrico\, FL 33594
UID:e.3220.4824
SEQUENCE:3
DTSTAMP:20260423T014832Z
URL:https://business.valricofishhawk.org/events/details/general-assembly-05-09-2023-4824
END:VEVENT

END:VCALENDAR
