BEGIN:VCALENDAR
VERSION:2.0
PRODID:-//ChamberMaster//Event Calendar 2.0//EN
METHOD:PUBLISH
X-PUBLISHED-TTL:P3D
REFRESH-INTERVAL:P3D
CALSCALE:GREGORIAN
BEGIN:VEVENT
DTSTART:20190109T230000Z
DTEND:20190110T000000Z
X-MICROSOFT-CDO-ALLDAYEVENT:FALSE
SUMMARY:Guided transitions on caring for your loved one
DESCRIPTION:Expert panel Q&A Session: 6 panelists from local businesses specializing in care for the elderly and disabled. Topics will include aging in place\, elder law questions\, downsizing\, rehabilitation centers\, assisted living facility cost\, how to prepare for the future\, resources available and more.
X-ALT-DESC;FMTTYPE=text/html:Expert panel Q&amp\;A Session: 6 panelists from local businesses specializing in care for the elderly and disabled. Topics will include aging in place\, elder law questions\, downsizing\, rehabilitation centers\, assisted living facility cost\, how to prepare for the future\, resources available and more.&nbsp\;
LOCATION:The crossing at Riverview- 8451 US HIGHWAY 301 S\, Riverview\, FL 33578
UID:e.3220.1285
SEQUENCE:3
DTSTAMP:20260424T133713Z
URL:https://business.valricofishhawk.org/events/details/guided-transitions-on-caring-for-your-loved-one-1285
END:VEVENT

END:VCALENDAR
