BEGIN:VCALENDAR
VERSION:2.0
PRODID:-//ChamberMaster//Event Calendar 2.0//EN
METHOD:PUBLISH
X-PUBLISHED-TTL:P3D
REFRESH-INTERVAL:P3D
CALSCALE:GREGORIAN
BEGIN:VEVENT
DTSTART:20231206T230000Z
DTEND:20231207T020000Z
X-MICROSOFT-CDO-ALLDAYEVENT:FALSE
SUMMARY:Holiday Comedy Night with Woman's Club
DESCRIPTION:Comedy Night presented by the Riverview Woman's Club to Benefit local High School Scholarships\\\n\nSpecial Performance by Comedians Helen Keaney and Michael Murillo
X-ALT-DESC;FMTTYPE=text/html:Comedy Night presented by the Riverview Woman&#39\;s Club to Benefit local High School Scholarships\\<br />\nSpecial Performance by Comedians Helen Keaney and Michael Murillo
LOCATION:The Regent 6437 Watson Road Riverview Fl
UID:e.3220.6959
SEQUENCE:3
DTSTAMP:20260422T140347Z
URL:https://business.valricofishhawk.org/events/details/holiday-comedy-night-with-woman-s-club-6959
END:VEVENT

END:VCALENDAR
