BEGIN:VCALENDAR
VERSION:2.0
PRODID:-//ChamberMaster//Event Calendar 2.0//EN
METHOD:PUBLISH
X-PUBLISHED-TTL:P3D
REFRESH-INTERVAL:P3D
CALSCALE:GREGORIAN
BEGIN:VEVENT
DTSTART:20230616T220000Z
DTEND:20230617T010000Z
X-MICROSOFT-CDO-ALLDAYEVENT:FALSE
SUMMARY:Honorary Mayor Danielle Stevens Comedy Night
DESCRIPTION:Danielle Stevens Honorary Mayor Candidate
X-ALT-DESC;FMTTYPE=text/html:Danielle Stevens Honorary Mayor Candidate&nbsp\;&nbsp\;&nbsp\;&nbsp\;&nbsp\;&nbsp\;&nbsp\;&nbsp\;
LOCATION:Center Place 619 Vonderburg Dr STE B\, Brandon\, FL 33511
UID:e.3220.6756
SEQUENCE:3
DTSTAMP:20260423T000452Z
URL:https://business.valricofishhawk.org/events/details/honorary-mayor-danielle-stevens-comedy-night-6756
END:VEVENT

END:VCALENDAR
