BEGIN:VCALENDAR
VERSION:2.0
PRODID:-//ChamberMaster//Event Calendar 2.0//EN
METHOD:PUBLISH
X-PUBLISHED-TTL:P3D
REFRESH-INTERVAL:P3D
CALSCALE:GREGORIAN
BEGIN:VEVENT
DTSTART:20240925T220000Z
DTEND:20240926T000000Z
X-MICROSOFT-CDO-ALLDAYEVENT:FALSE
SUMMARY:How to Plan Your Dream Vacation
DESCRIPTION:Come out for this Wine and Learn Event! \n\n\n\nYour host Jenifer Breaux invites you to join her at this event to ensure you have all the tools you need to Plan for a Dream Vacation because Everyone Deserves to Travel!\n\n\n\nAt this event\, speakers Barbara Ellis with the House of Colour Tampa Bay will share with you how to create a capsule wardrobe so you can dress your fabulous self for vacation. Christine Peter Skaggs with Cornerstone Financial will share with you how to create a mindset of savings and change of financial habits for your Dream Vacation.\n\n\n\nBring one old carry-on for donation for the non-profit Hope for Her and receive a gift.\n\n\n\nJoin us at Heidi Edgerton's new co-work space: Edge Co.Space on 25 September. Doors open at 6pm.\n\n\n\nTICKET:  https://www.eventbrite.com/e/how-to-plan-your-dream-vacation-tickets-1006952009567?aff=oddtdtcreator&fbclid=IwY2xjawFJc9JleHRuA2FlbQIxMAABHapnT2mTzaF9jnTzuzupEu6fvfe5_a1m6f_OmUTdJxVRzhsBldj1Vlnrkw_aem_gpQ3hQKb8cScW2FAdKhyDA
X-ALT-DESC;FMTTYPE=text/html:Come out for this Wine and Learn Event!&nbsp\;<br />\n<br />\nYour host Jenifer Breaux invites you to join her at this event to ensure you have all the tools you need to Plan for a Dream Vacation because Everyone Deserves to Travel!<br />\n<br />\nAt this event\, speakers Barbara Ellis with the House of Colour Tampa Bay will share with you how to create a capsule wardrobe so you can dress your fabulous self for vacation. Christine Peter Skaggs with Cornerstone Financial will share with you how to create a mindset of savings and change of financial habits for your Dream Vacation.<br />\n<br />\nBring one old carry-on for donation for the non-profit Hope for Her and receive a gift.<br />\n<br />\nJoin us at Heidi Edgerton&#39\;s new co-work space: Edge Co.Space on 25 September. Doors open at 6pm.<br />\n<br />\nTICKET:&nbsp\;&nbsp\;https://www.eventbrite.com/e/how-to-plan-your-dream-vacation-tickets-1006952009567?aff=oddtdtcreator&amp\;fbclid=IwY2xjawFJc9JleHRuA2FlbQIxMAABHapnT2mTzaF9jnTzuzupEu6fvfe5_a1m6f_OmUTdJxVRzhsBldj1Vlnrkw_aem_gpQ3hQKb8cScW2FAdKhyDA\n<div>&nbsp\;</div>\n
LOCATION:Edge Co.Space 118 Central Drive Brandon\, FL
UID:e.3220.7530
SEQUENCE:3
DTSTAMP:20260420T104239Z
URL:https://business.valricofishhawk.org/events/details/how-to-plan-your-dream-vacation-7530
END:VEVENT

END:VCALENDAR
