BEGIN:VCALENDAR
VERSION:2.0
PRODID:-//ChamberMaster//Event Calendar 2.0//EN
METHOD:PUBLISH
X-PUBLISHED-TTL:P3D
REFRESH-INTERVAL:P3D
CALSCALE:GREGORIAN
BEGIN:VEVENT
DTSTART:20210224T160000Z
DTEND:20210224T170000Z
X-MICROSOFT-CDO-ALLDAYEVENT:FALSE
SUMMARY:Midday Power Hour Networking
DESCRIPTION:As a chamber member\, represent your business segment at a networking round-table with a dynamic and unique group of other networking business.  Networking is an investment in your business. It takes time and when done correctly can yield great results for years to come. Networking is marketing. Marketing yourself\, marketing your uniqueness\, marketing what you stand for. Come join us at the Midday Power Hour to make connections and build relationships with other VFCC members.  \n\nThis is part of your chamber membership but visitors are always welcome!\n\nMeets every Wednesday 11:00 am to 12:00 pm  \n\nRemember to bring plenty of business cards!\n\n\nIf you wish to join via Zoom here is the login information -\n\nhttps://zoom.us/j/91732385389\n\nMeeting ID: 917 3238 5389  Passcode: 592083
X-ALT-DESC;FMTTYPE=text/html:<h3><span style="font-size:14px\;">As a chamber member\, represent your business segment at a networking round-table with a dynamic and unique group of other networking business.&nbsp\; Networking is an investment in your business. It takes time and when done correctly can yield great results for years to come.&nbsp\;Networking is marketing. Marketing yourself\, marketing your uniqueness\, marketing what you stand for. Come join us at the Midday Power Hour to make connections and build relationships with other VFCC members. &nbsp\;</span></h3>\n\n<h3><span style="font-size:14px\;">This is part of your chamber membership but visitors are always welcome!</span></h3>\n\n<h3><span style="font-size:14px\;">Meets every&nbsp\;Wednesday 11:00 am to 12:00 pm&nbsp\;<span class="_xdb">&nbsp\;</span><br />\nRemember to bring plenty of business cards!</span></h3>\n<br />\nIf you wish to join via Zoom here is the login information -<br />\nhttps://zoom.us/j/91732385389<br />\nMeeting ID: 917 3238 5389&nbsp\; Passcode: 592083
LOCATION:JF Kicks 3345 Lithia Pinecrest Rd Valrico\, FL 33596
UID:e.3220.2338
SEQUENCE:3
DTSTAMP:20260420T085453Z
URL:https://business.valricofishhawk.org/events/details/midday-power-hour-networking-02-24-2021-2338
END:VEVENT

END:VCALENDAR
