BEGIN:VCALENDAR
VERSION:2.0
PRODID:-//ChamberMaster//Event Calendar 2.0//EN
METHOD:PUBLISH
X-PUBLISHED-TTL:P3D
REFRESH-INTERVAL:P3D
CALSCALE:GREGORIAN
BEGIN:VEVENT
DTSTART:20230719T150000Z
DTEND:20230719T160000Z
X-MICROSOFT-CDO-ALLDAYEVENT:FALSE
SUMMARY:Midday Power Hour Networking Brodie Gonzalez - Accusystem Home Inspection
DESCRIPTION:Peter Farnan with Satin & Lace Facilitator for July   Citizens Bank & Trust Tiffany Achille Educational Moment for July\n\nAs a chamber member\, represent your business segment at a networking round-table with a dynamic and unique group of other networking business.  Networking is an investment in your business. It takes time and when done correctly can yield great results for years to come. Networking is marketing. Marketing yourself\, marketing your uniqueness\, marketing what you stand for. Come join us at the Midday Power Hour to make connections and build relationships with other VFCC members.  \n\nThis is part of your chamber membership but visitors are always welcome!\n\nMeets every Wednesday 11:00 am to 12:00 pm  \n\nRemember to bring plenty of business cards!
X-ALT-DESC;FMTTYPE=text/html:<h3><span style="font-size:14px\;">Peter Farnan with Satin &amp\; Lace Facilitator for July&nbsp\; &nbsp\;Citizens Bank &amp\; Trust Tiffany Achille Educational Moment for July<br />\nAs a chamber member\, represent your business segment at a networking round-table with a dynamic and unique group of other networking business.&nbsp\; Networking is an investment in your business. It takes time and when done correctly can yield great results for years to come.&nbsp\;Networking is marketing. Marketing yourself\, marketing your uniqueness\, marketing what you stand for. Come join us at the Midday Power Hour to make connections and build relationships with other VFCC members. &nbsp\;</span></h3>\n\n<h3><span style="font-size:14px\;">This is part of your chamber membership but visitors are always welcome!</span></h3>\n\n<h3><span style="font-size:14px\;">Meets every&nbsp\;Wednesday 11:00 am to 12:00 pm&nbsp\;<span class="_xdb">&nbsp\;</span><br />\nRemember to bring plenty of business cards!</span></h3>\n
LOCATION:JF Kicks 3345 Lithia Pinecrest Rd Valrico\, FL 33596
UID:e.3220.6342
SEQUENCE:3
DTSTAMP:20260422T223824Z
URL:https://business.valricofishhawk.org/events/details/midday-power-hour-networking-brodie-gonzalez-accusystem-home-inspection-6342
END:VEVENT

END:VCALENDAR
