BEGIN:VCALENDAR
VERSION:2.0
PRODID:-//ChamberMaster//Event Calendar 2.0//EN
METHOD:PUBLISH
X-PUBLISHED-TTL:P3D
REFRESH-INTERVAL:P3D
CALSCALE:GREGORIAN
BEGIN:VEVENT
DTSTART:20230809T150000Z
DTEND:20230809T160000Z
X-MICROSOFT-CDO-ALLDAYEVENT:FALSE
SUMMARY:Midday Power Hour Networking Fidelity Mortgage - Mike Neill
DESCRIPTION:Faciitator for August - Kerrie Hoening Osprey Observer\n\nEducational/Business Moment for August - Leslie Forrester Quality Life Massage\n\n\n\n\n\nAs a chamber member\, represent your business segment at a networking round-table with a dynamic and unique group of other networking business.  Networking is an investment in your business. It takes time and when done correctly can yield great results for years to come. Networking is marketing. Marketing yourself\, marketing your uniqueness\, marketing what you stand for. Come join us at the Midday Power Hour to make connections and build relationships with other VFCC members.  \n\nThis is part of your chamber membership but visitors are always welcome!\n\nMeets every Wednesday 11:00 am to 12:00 pm  \n\nRemember to bring plenty of business cards!
X-ALT-DESC;FMTTYPE=text/html:<h3 style="font-weight: normal\; line-height: 1.2\; color: rgb(51\, 51\, 51)\; font-family: sans-serif\, Arial\, Verdana\, &quot\;Trebuchet MS&quot\;\;"><span style="font-size: 14px\;">Faciitator for August - Kerrie Hoening Osprey Observer<br />\nEducational/Business Moment for August - Leslie Forrester Quality Life Massage</span></h3>\n\n<h3><br />\n<br />\n<span style="font-size:14px\;">As a chamber member\, represent your business segment at a networking round-table with a dynamic and unique group of other networking business.&nbsp\; Networking is an investment in your business. It takes time and when done correctly can yield great results for years to come.&nbsp\;Networking is marketing. Marketing yourself\, marketing your uniqueness\, marketing what you stand for. Come join us at the Midday Power Hour to make connections and build relationships with other VFCC members. &nbsp\;</span></h3>\n\n<h3><span style="font-size:14px\;">This is part of your chamber membership but visitors are always welcome!</span></h3>\n\n<h3><span style="font-size:14px\;">Meets every&nbsp\;Wednesday 11:00 am to 12:00 pm&nbsp\;<span class="_xdb">&nbsp\;</span><br />\nRemember to bring plenty of business cards!</span></h3>\n
LOCATION:JF Kicks 3345 Lithia Pinecrest Rd Valrico\, FL 33596
UID:e.3220.6345
SEQUENCE:3
DTSTAMP:20260422T204711Z
URL:https://business.valricofishhawk.org/events/details/midday-power-hour-networking-fidelity-mortgage-mike-neill-6345
END:VEVENT

END:VCALENDAR
