BEGIN:VCALENDAR
VERSION:2.0
PRODID:-//ChamberMaster//Event Calendar 2.0//EN
METHOD:PUBLISH
X-PUBLISHED-TTL:P3D
REFRESH-INTERVAL:P3D
CALSCALE:GREGORIAN
BEGIN:VEVENT
DTSTART:20320312T130000Z
DTEND:20320312T140000Z
X-MICROSOFT-CDO-ALLDAYEVENT:FALSE
SUMMARY:Morning Mimosa
DESCRIPTION:A free networking event for small businesses and nonprofits.  Join us for an hour of networking and a presentation.
X-ALT-DESC;FMTTYPE=text/html:A free networking event for small businesses and nonprofits.&nbsp\; Join us for an hour of networking and a presentation.
LOCATION:Our Dream Kitchen 1008 N Park Rd Plant City
UID:e.3220.7457
SEQUENCE:3
DTSTAMP:20260421T061947Z
URL:https://business.valricofishhawk.org/events/details/morning-mimosa-03-12-2032-7457
END:VEVENT

END:VCALENDAR
