BEGIN:VCALENDAR
VERSION:2.0
PRODID:-//ChamberMaster//Event Calendar 2.0//EN
METHOD:PUBLISH
X-PUBLISHED-TTL:P3D
REFRESH-INTERVAL:P3D
CALSCALE:GREGORIAN
BEGIN:VEVENT
DTSTART:20240709T121500Z
DTEND:20240709T121500Z
X-MICROSOFT-CDO-ALLDAYEVENT:FALSE
SUMMARY:New Member Orientation
DESCRIPTION:Calling all NEW members. If you have joined the Chamber in the last 3 months please be sure to attend this month's General Assembly held at the River Hills Country Club. You will be recognized and given your official Chamber plaque during the meeting if you have not yet done so. We even have a special table just for you! Get there early at 8:15 a.m. for New Member Orientation to learn more about Chamber benefits.  Allow extra time due to school traffic.  Bring plenty of business cards to share with other Chamber members!  The New Member Orientation will be followed by our General Assembly which all members are invited to attend. Stay to network!  Coffee and breakfast provided.
X-ALT-DESC;FMTTYPE=text/html:<span style="color: rgb(34\, 34\, 34)\; font-family: arial\, sans-serif\; font-size: 12.8px\;">Calling all NEW members. If you have joined the Chamber in the last 3 months please be sure to attend this month&#39\;s General Assembly held at the River Hills Country Club. You will be recognized and given your official Chamber plaque during the meeting if you have not yet done so. We even have a special table just for you! Get there early at 8:15 a.m.&nbsp\;for New Member Orientation to learn more about Chamber benefits.&nbsp\; Allow extra time due to school traffic.&nbsp\;&nbsp\;Bring plenty of business cards to share with other Chamber members!&nbsp\;&nbsp\;The New Member Orientation will be followed by our General Assembly which&nbsp\;</span><span style="color: rgb(34\, 34\, 34)\; font-family: arial\, sans-serif\; font-size: 12.8px\;">all members are invited to attend. Stay to network!&nbsp\; Coffee and breakfast provided.</span>
LOCATION:River Hills Country Club 3943 New River Hills Pkwy\, Valrico\, FL 33594
UID:e.3220.1040
SEQUENCE:3
DTSTAMP:20260422T122455Z
URL:https://business.valricofishhawk.org/events/details/new-member-orientation-07-09-2024-1040
END:VEVENT

END:VCALENDAR
