BEGIN:VCALENDAR
VERSION:2.0
PRODID:-//ChamberMaster//Event Calendar 2.0//EN
METHOD:PUBLISH
X-PUBLISHED-TTL:P3D
REFRESH-INTERVAL:P3D
CALSCALE:GREGORIAN
BEGIN:VEVENT
DTSTART:20320126T210000Z
DTEND:20320126T230000Z
X-MICROSOFT-CDO-ALLDAYEVENT:FALSE
SUMMARY:Partners of Hope
DESCRIPTION:Welcoming individual and group tours at Hope for Her - Partners of Hope
X-ALT-DESC;FMTTYPE=text/html:Welcoming individual and group tours at Hope for Her&nbsp\;- Partners of Hope&nbsp\;
LOCATION:140 Yarborough Rd Brandon\, FL 813-309-3357
UID:e.3220.7076
SEQUENCE:3
DTSTAMP:20260421T025921Z
URL:https://business.valricofishhawk.org/events/details/partners-of-hope-01-26-2032-7076
END:VEVENT

END:VCALENDAR
