BEGIN:VCALENDAR
VERSION:2.0
PRODID:-//ChamberMaster//Event Calendar 2.0//EN
METHOD:PUBLISH
X-PUBLISHED-TTL:P3D
REFRESH-INTERVAL:P3D
CALSCALE:GREGORIAN
BEGIN:VEVENT
DTSTART:20320726T200000Z
DTEND:20320726T220000Z
X-MICROSOFT-CDO-ALLDAYEVENT:FALSE
SUMMARY:Partners of Hope
DESCRIPTION:Welcoming individual and group tours at Hope for Her - Partners of Hope
X-ALT-DESC;FMTTYPE=text/html:Welcoming individual and group tours at Hope for Her&nbsp\;- Partners of Hope&nbsp\;
LOCATION:140 Yarborough Rd Brandon\, FL 813-309-3357
UID:e.3220.7082
SEQUENCE:3
DTSTAMP:20260421T131616Z
URL:https://business.valricofishhawk.org/events/details/partners-of-hope-07-26-2032-7082
END:VEVENT

END:VCALENDAR
