BEGIN:VCALENDAR
VERSION:2.0
PRODID:-//ChamberMaster//Event Calendar 2.0//EN
METHOD:PUBLISH
X-PUBLISHED-TTL:P3D
REFRESH-INTERVAL:P3D
CALSCALE:GREGORIAN
BEGIN:VEVENT
DTSTART:20261026T200000Z
DTEND:20261026T220000Z
X-MICROSOFT-CDO-ALLDAYEVENT:FALSE
SUMMARY:Partners of Hope
DESCRIPTION:Welcoming individual and group tours at Hope for Her - Partners of Hope
X-ALT-DESC;FMTTYPE=text/html:Welcoming individual and group tours at Hope for Her&nbsp\;- Partners of Hope&nbsp\;
LOCATION:140 Yarborough Rd Brandon\, FL 813-309-3357
UID:e.3220.7013
SEQUENCE:3
DTSTAMP:20260423T125411Z
URL:https://business.valricofishhawk.org/events/details/partners-of-hope-10-26-2026-7013
END:VEVENT

END:VCALENDAR
