BEGIN:VCALENDAR
VERSION:2.0
PRODID:-//ChamberMaster//Event Calendar 2.0//EN
METHOD:PUBLISH
X-PUBLISHED-TTL:P3D
REFRESH-INTERVAL:P3D
CALSCALE:GREGORIAN
BEGIN:VEVENT
DTSTART:20231104T120000Z
DTEND:20231104T180000Z
X-MICROSOFT-CDO-ALLDAYEVENT:FALSE
SUMMARY:PICKLEBALL WITH AN IMPACT
DESCRIPTION:PICKLEBALL WITH AN IMPACT FUNDRAISER TOURNAMENT Cost is $55 / per player\; $100 per team *includes lunch (Chick-fil-A) & t-shirt. 64 player limit. The tournament will be divided into BEGINNER\, INTERMEDIATE\, and ADVANCED groups\, with teams of WOMEN and MEN/MIXED DOUBLES. If you would like to play as a mixed doubles team\, you will play in the men's division. Double elimination for championship game. Court sponsorships are available. Courts will be named after their sponsorship and will be referred to their name during play. For more information\, contact Tammy Bradley at Tbrad910@gmail.com or text @ 813.294.7885
X-ALT-DESC;FMTTYPE=text/html:PICKLEBALL WITH AN IMPACT FUNDRAISER TOURNAMENT Cost is $55 / per player\; $100 per team *includes lunch (Chick-fil-A) &amp\; t-shirt. 64 player limit. The tournament will be divided into BEGINNER\, INTERMEDIATE\, and ADVANCED groups\, with teams of WOMEN and MEN/MIXED DOUBLES. If you would like to play as a mixed doubles team\, you will play in the men&#39\;s division. Double elimination for championship game. Court sponsorships are available. Courts will be named after their sponsorship and will be referred to their name during play. For more information\, contact Tammy Bradley at Tbrad910@gmail.com or text @ 813.294.7885
LOCATION:High 5\, 405 Beverly Blvd.\, Brandon\, FL 33511
UID:e.3220.6947
SEQUENCE:3
DTSTAMP:20260422T172845Z
URL:https://business.valricofishhawk.org/events/details/pickleball-with-an-impact-6947
END:VEVENT

END:VCALENDAR
