BEGIN:VCALENDAR
VERSION:2.0
PRODID:-//ChamberMaster//Event Calendar 2.0//EN
METHOD:PUBLISH
X-PUBLISHED-TTL:P3D
REFRESH-INTERVAL:P3D
CALSCALE:GREGORIAN
BEGIN:VEVENT
DTSTART;VALUE=DATE:20231001
DTEND;VALUE=DATE:20231101
TRANSP:TRANSPARENT
X-MICROSOFT-CDO-ALLDAYEVENT:TRUE
SUMMARY:Raising the Dough - Fundraiser at Bubba's 33
DESCRIPTION:Raising THE DOUGH - Fundraise with Pizza at Bubba's 33
X-ALT-DESC;FMTTYPE=text/html:Raising THE DOUGH - Fundraise with Pizza at Bubba&#39\;s 33
LOCATION:2580 S Falkenberg Rd Brandon\, FL 813 807-4410
UID:e.3220.6939
SEQUENCE:3
DTSTAMP:20260422T190208Z
URL:https://business.valricofishhawk.org/events/details/raising-the-dough-fundraiser-at-bubba-s-33-6939
END:VEVENT

END:VCALENDAR
