BEGIN:VCALENDAR
VERSION:2.0
PRODID:-//ChamberMaster//Event Calendar 2.0//EN
METHOD:PUBLISH
X-PUBLISHED-TTL:P3D
REFRESH-INTERVAL:P3D
CALSCALE:GREGORIAN
BEGIN:VEVENT
DTSTART:20240119T040000Z
DTEND:20240118T180000Z
X-MICROSOFT-CDO-ALLDAYEVENT:FALSE
SUMMARY:Ribbon Cutting - Drip Infrared Sauna
DESCRIPTION:Come and celebrate our new facility!  We opened 6 months ago and love serving this community!  We will have small bites and refreshments\, a few door prizes\, as well as offering free sessions (infrared or cold plunge) to those that attend our event.
X-ALT-DESC;FMTTYPE=text/html:Come and celebrate our new facility!&nbsp\; We opened 6 months ago and love serving this community!&nbsp\; We will have small bites and refreshments\, a few door prizes\, as well as offering free sessions (infrared or cold plunge) to those that attend our event.&nbsp\;&nbsp\;
LOCATION:1578 Bloomingdale Ave Valrico\, FL
UID:e.3220.6963
SEQUENCE:3
DTSTAMP:20260422T140018Z
URL:https://business.valricofishhawk.org/events/details/ribbon-cutting-drip-infrared-sauna-6963
END:VEVENT

END:VCALENDAR
