BEGIN:VCALENDAR
VERSION:2.0
PRODID:-//ChamberMaster//Event Calendar 2.0//EN
METHOD:PUBLISH
X-PUBLISHED-TTL:P3D
REFRESH-INTERVAL:P3D
CALSCALE:GREGORIAN
BEGIN:VEVENT
DTSTART:20231102T200000Z
DTEND:20231102T210000Z
X-MICROSOFT-CDO-ALLDAYEVENT:FALSE
SUMMARY:Ribbon Cutting - Ellie Mental Health
DESCRIPTION:Come join us and the Brandon Chamber of Commerce and celebrate our Grand Opening!
X-ALT-DESC;FMTTYPE=text/html:Come join us and the Brandon Chamber of Commerce and celebrate our Grand Opening!
LOCATION:109 North Oakwood Ave\, Suite 105 Brandon\, FL 33510
UID:e.3220.6952
SEQUENCE:3
DTSTAMP:20260422T173152Z
URL:https://business.valricofishhawk.org/events/details/ribbon-cutting-ellie-mental-health-6952
END:VEVENT

END:VCALENDAR
