BEGIN:VCALENDAR
VERSION:2.0
PRODID:-//ChamberMaster//Event Calendar 2.0//EN
METHOD:PUBLISH
X-PUBLISHED-TTL:P3D
REFRESH-INTERVAL:P3D
CALSCALE:GREGORIAN
BEGIN:VEVENT
DTSTART:20231027T150000Z
DTEND:20231027T160000Z
X-MICROSOFT-CDO-ALLDAYEVENT:FALSE
SUMMARY:Ribbon Cutting - Osprey Observer
DESCRIPTION:Starting this month\, Marie Gilmore\, Managing Editor and Publisher of\n\nthe Osprey Observer Newspapers has a burger named for her at Ford's\n\nGarage Brandon! The BBQ Brisket Burger - includes Tillamook  Aged\n\nSharp Cheddar Cheese\, Bourbon BBQ Sauce\, Hickory Smoked Brisket\,\n\nApplewood Smoked Bacon\, Red Onions\, and Crispy Onion Straws on a\n\nBrioche Bun is now the Marie Gilmore\, Osprey Observer Newspapers\n\nBurger!\n\n\n\nThe Burger of Fame program highlights local dignitaries and community\n\ninfluencers who are honored on the menu. Gilmore joins the ranks of\n\nthe Hillsborough County Sheriff and Tampa Mayor and the head of\n\nMacDill Air Force Base!\n\n\n\nJoin Gilmore and her team ribbon cutting to celebrate the new menu\n\nitem!
X-ALT-DESC;FMTTYPE=text/html:<span style="color: rgb(34\, 34\, 34)\; font-family: Arial\, Helvetica\, sans-serif\; font-size: small\;">Starting this month\, Marie Gilmore\, Managing Editor and Publisher of</span><br style="color: rgb(34\, 34\, 34)\; font-family: Arial\, Helvetica\, sans-serif\; font-size: small\;" />\n<span style="color: rgb(34\, 34\, 34)\; font-family: Arial\, Helvetica\, sans-serif\; font-size: small\;">the Osprey Observer Newspapers has a burger named for her at Ford&#39\;s</span><br style="color: rgb(34\, 34\, 34)\; font-family: Arial\, Helvetica\, sans-serif\; font-size: small\;" />\n<span style="color: rgb(34\, 34\, 34)\; font-family: Arial\, Helvetica\, sans-serif\; font-size: small\;">Garage Brandon! The BBQ Brisket Burger - includes Tillamook&reg\; Aged</span><br style="color: rgb(34\, 34\, 34)\; font-family: Arial\, Helvetica\, sans-serif\; font-size: small\;" />\n<span style="color: rgb(34\, 34\, 34)\; font-family: Arial\, Helvetica\, sans-serif\; font-size: small\;">Sharp Cheddar Cheese\, Bourbon BBQ Sauce\, Hickory Smoked Brisket\,</span><br style="color: rgb(34\, 34\, 34)\; font-family: Arial\, Helvetica\, sans-serif\; font-size: small\;" />\n<span style="color: rgb(34\, 34\, 34)\; font-family: Arial\, Helvetica\, sans-serif\; font-size: small\;">Applewood Smoked Bacon\, Red Onions\, and Crispy Onion Straws on a</span><br style="color: rgb(34\, 34\, 34)\; font-family: Arial\, Helvetica\, sans-serif\; font-size: small\;" />\n<span style="color: rgb(34\, 34\, 34)\; font-family: Arial\, Helvetica\, sans-serif\; font-size: small\;">Brioche Bun is now the Marie Gilmore\, Osprey Observer Newspapers</span><br style="color: rgb(34\, 34\, 34)\; font-family: Arial\, Helvetica\, sans-serif\; font-size: small\;" />\n<span style="color: rgb(34\, 34\, 34)\; font-family: Arial\, Helvetica\, sans-serif\; font-size: small\;">Burger!</span><br style="color: rgb(34\, 34\, 34)\; font-family: Arial\, Helvetica\, sans-serif\; font-size: small\;" />\n<br style="color: rgb(34\, 34\, 34)\; font-family: Arial\, Helvetica\, sans-serif\; font-size: small\;" />\n<span style="color: rgb(34\, 34\, 34)\; font-family: Arial\, Helvetica\, sans-serif\; font-size: small\;">The Burger of Fame program highlights local dignitaries and community</span><br style="color: rgb(34\, 34\, 34)\; font-family: Arial\, Helvetica\, sans-serif\; font-size: small\;" />\n<span style="color: rgb(34\, 34\, 34)\; font-family: Arial\, Helvetica\, sans-serif\; font-size: small\;">influencers who are honored on the menu. Gilmore joins the ranks of</span><br style="color: rgb(34\, 34\, 34)\; font-family: Arial\, Helvetica\, sans-serif\; font-size: small\;" />\n<span style="color: rgb(34\, 34\, 34)\; font-family: Arial\, Helvetica\, sans-serif\; font-size: small\;">the Hillsborough County Sheriff and Tampa Mayor and the head of</span><br style="color: rgb(34\, 34\, 34)\; font-family: Arial\, Helvetica\, sans-serif\; font-size: small\;" />\n<span style="color: rgb(34\, 34\, 34)\; font-family: Arial\, Helvetica\, sans-serif\; font-size: small\;">MacDill Air Force Base!</span><br style="color: rgb(34\, 34\, 34)\; font-family: Arial\, Helvetica\, sans-serif\; font-size: small\;" />\n<br style="color: rgb(34\, 34\, 34)\; font-family: Arial\, Helvetica\, sans-serif\; font-size: small\;" />\n<span style="color: rgb(34\, 34\, 34)\; font-family: Arial\, Helvetica\, sans-serif\; font-size: small\;">Join Gilmore and her team ribbon cutting to celebrate the new menu</span><br style="color: rgb(34\, 34\, 34)\; font-family: Arial\, Helvetica\, sans-serif\; font-size: small\;" />\n<span style="color: rgb(34\, 34\, 34)\; font-family: Arial\, Helvetica\, sans-serif\; font-size: small\;">item!</span>
LOCATION:Ford's Garage Brandon 11105 Causeway Blvd.\, Brandon\, FL 33511
UID:e.3220.6954
SEQUENCE:3
DTSTAMP:20260422T185935Z
URL:https://business.valricofishhawk.org/events/details/ribbon-cutting-osprey-observer-6954
END:VEVENT

END:VCALENDAR
