BEGIN:VCALENDAR
VERSION:2.0
PRODID:-//ChamberMaster//Event Calendar 2.0//EN
METHOD:PUBLISH
X-PUBLISHED-TTL:P3D
REFRESH-INTERVAL:P3D
CALSCALE:GREGORIAN
BEGIN:VEVENT
DTSTART:20231103T170000Z
DTEND:20231103T180000Z
X-MICROSOFT-CDO-ALLDAYEVENT:FALSE
SUMMARY:Ribbon Cutting - Tommy's Express Car Wash
DESCRIPTION:Come and celebrate our Grand Opening!  We will have snacks\, giveaways and a free car wash for everyone who attends!
X-ALT-DESC;FMTTYPE=text/html:Come and celebrate our Grand Opening!&nbsp\;&nbsp\;<span style="color: rgb(34\, 34\, 34)\; font-family: Arial\, Helvetica\, sans-serif\; font-size: small\;">We will have snacks\, giveaways and a free car wash for everyone who attends!</span>
LOCATION:2940 E State Rd 60 Valrico\, FL 33594
UID:e.3220.6948
SEQUENCE:3
DTSTAMP:20260422T173108Z
URL:https://business.valricofishhawk.org/events/details/ribbon-cutting-tommy-s-express-car-wash-6948
END:VEVENT

END:VCALENDAR
