BEGIN:VCALENDAR
VERSION:2.0
PRODID:-//ChamberMaster//Event Calendar 2.0//EN
METHOD:PUBLISH
X-PUBLISHED-TTL:P3D
REFRESH-INTERVAL:P3D
CALSCALE:GREGORIAN
BEGIN:VEVENT
DTSTART:20231021T130000Z
DTEND:20231021T180000Z
X-MICROSOFT-CDO-ALLDAYEVENT:FALSE
SUMMARY:Shop Local
DESCRIPTION:Shop Local
X-ALT-DESC;FMTTYPE=text/html:Shop Local
LOCATION:Grace Community United Methodist Church 5708 Lithia Pinecrest Rd\, Lithia\, FL
UID:e.3220.6760
SEQUENCE:3
DTSTAMP:20260422T185818Z
URL:https://business.valricofishhawk.org/events/details/shop-local-6760
END:VEVENT

END:VCALENDAR
