BEGIN:VCALENDAR
VERSION:2.0
PRODID:-//ChamberMaster//Event Calendar 2.0//EN
METHOD:PUBLISH
X-PUBLISHED-TTL:P3D
REFRESH-INTERVAL:P3D
CALSCALE:GREGORIAN
BEGIN:VEVENT
DTSTART:20240125T223000Z
DTEND:20240126T003000Z
X-MICROSOFT-CDO-ALLDAYEVENT:FALSE
SUMMARY:Small Business Networking Event
DESCRIPTION:Free Networking event hosted by 5/3 Bank on State Rd 60 in Valrico. We are looking forward to bring the community together and playing some fun Networking Bingo! Finger foods and Beverages will be provided.
X-ALT-DESC;FMTTYPE=text/html:Free Networking event hosted by 5/3 Bank on State Rd 60 in Valrico. We are looking forward to bring the community together and playing some fun Networking Bingo! Finger foods and Beverages will be provided.
LOCATION:1909 SR 60 Valrico\, FL 33594
UID:e.3220.7124
SEQUENCE:3
DTSTAMP:20260422T135843Z
URL:https://business.valricofishhawk.org/events/details/small-business-networking-event-7124
END:VEVENT

END:VCALENDAR
