BEGIN:VCALENDAR
VERSION:2.0
PRODID:-//ChamberMaster//Event Calendar 2.0//EN
METHOD:PUBLISH
X-PUBLISHED-TTL:P3D
REFRESH-INTERVAL:P3D
CALSCALE:GREGORIAN
BEGIN:VEVENT
DTSTART:20240116T230000Z
DTEND:20240117T010000Z
X-MICROSOFT-CDO-ALLDAYEVENT:FALSE
SUMMARY:Speed Networking
DESCRIPTION:Come and check out our Speed Networking Event! It will be a fun and fast paced way to connect with other business owners and grow your network.  Bring a friend because this event is open to the public!
X-ALT-DESC;FMTTYPE=text/html:Come and check out our Speed Networking Event! It will be a fun and fast paced way to connect with other business owners and grow your network.&nbsp\; Bring a friend because this event is open to the public!
LOCATION:Bubba's 33 2580 S Falkenburg Rd Tampa\, FL
UID:e.3220.6970
SEQUENCE:3
DTSTAMP:20260422T135816Z
URL:https://business.valricofishhawk.org/events/details/speed-networking-6970
END:VEVENT

END:VCALENDAR
