BEGIN:VCALENDAR
VERSION:2.0
PRODID:-//ChamberMaster//Event Calendar 2.0//EN
METHOD:PUBLISH
X-PUBLISHED-TTL:P3D
REFRESH-INTERVAL:P3D
CALSCALE:GREGORIAN
BEGIN:VEVENT
DTSTART:20231114T213000Z
DTEND:20231115T000000Z
X-MICROSOFT-CDO-ALLDAYEVENT:FALSE
SUMMARY:The Mindy McCabe Team Blessing Basket Happy Hour
DESCRIPTION:Thanksgiving is a time for family\, food\, and gratitude\, many local households will struggle to enjoy the holiday\n\nThe Mindy McCabe Team and area schools and nonprofits will sponsor a Happy Hour for Blessing Basket(s) dropoffs. \n\nEnjoy a free drink and a discount for appetizers!
X-ALT-DESC;FMTTYPE=text/html:Thanksgiving is a time for family\, food\, and gratitude\, many local households will struggle to enjoy the holiday<br />\nThe Mindy McCabe Team and area schools and nonprofits will sponsor a Happy Hour for Blessing Basket(s) dropoffs.&nbsp\;<br />\nEnjoy a free drink and a discount for appetizers!
LOCATION:J F Kicks 3345 Lithia Pinecrest Rd Valrico FL
UID:e.3220.6958
SEQUENCE:3
DTSTAMP:20260422T173147Z
URL:https://business.valricofishhawk.org/events/details/the-mindy-mccabe-team-blessing-basket-happy-hour-6958
END:VEVENT

END:VCALENDAR
