BEGIN:VCALENDAR
VERSION:2.0
PRODID:-//ChamberMaster//Event Calendar 2.0//EN
METHOD:PUBLISH
X-PUBLISHED-TTL:P3D
REFRESH-INTERVAL:P3D
CALSCALE:GREGORIAN
BEGIN:VEVENT
DTSTART:20231102T160000Z
DTEND:20231102T173000Z
X-MICROSOFT-CDO-ALLDAYEVENT:FALSE
SUMMARY:VFCC Board Meeting
DESCRIPTION:VFCC Board of Directors will meet to discuss upcoming chamber events\, budgetary requests\, chamber issues\, concerns\, and recommendations.
X-ALT-DESC;FMTTYPE=text/html:VFCC Board of Directors will meet to discuss upcoming chamber events\, budgetary requests\, chamber issues\, concerns\, and recommendations.
LOCATION:J F Kicks Valrico\, FL 33596
UID:e.3220.5667
SEQUENCE:3
DTSTAMP:20260422T172924Z
URL:https://business.valricofishhawk.org/events/details/vfcc-board-meeting-11-02-2023-5667
END:VEVENT

END:VCALENDAR
