BEGIN:VCALENDAR
VERSION:2.0
PRODID:-//ChamberMaster//Event Calendar 2.0//EN
METHOD:PUBLISH
X-PUBLISHED-TTL:P3D
REFRESH-INTERVAL:P3D
CALSCALE:GREGORIAN
BEGIN:VEVENT
DTSTART:20240315T153000Z
DTEND:20240315T170000Z
X-MICROSOFT-CDO-ALLDAYEVENT:FALSE
SUMMARY:VFCC-University Business Management Series. Presenter: Kim Ruiz\, Expressly Written/ Brook Borup\, My Clone Solution
DESCRIPTION:Presenter: Kim Ruiz\, Expressly Written & Brook Borup\, My Clone Solution\n\nWebsite Management \n\nYour website is more than just a digital presence - it's your key to unlocking business success. Join us for a 90-minute class where Kim Ruiz from Expressly Written and Brook Borup from My Clone Solution will show you how to maximize your website's power to generate leads\, convert customers\, and grow your business.\n\nIn this session\, Kim and Brook will share their expert insights and a 15-point checklist to revolutionize your website strategy. From crafting compelling content to optimizing user experience\, they'll cover everything you need to know to turn your website into a lead-generating machine.\n\nHere's what you'll learn:\n\n	Why a killer website is essential for business success\n	How to infuse your website with your unique brand identity\n	The must-have features for driving conversions and sales\n	Pro tips for effective website planning and maintenance\n	Strategies for turning visitors into loyal customers\n	Tactics for driving traffic and boosting visibility\n\nDon't miss out on this opportunity to take your website from good to great. Whether you're just starting out or looking to level up your online presence\, this class is your roadmap to success. Sign up now and unleash the full potential of your website!
X-ALT-DESC;FMTTYPE=text/html:Presenter: Kim Ruiz\, Expressly Written &amp\; Brook Borup\, My Clone Solution<br />\nWebsite Management&nbsp\;<br />\n<span style="--tw-border-spacing-x:0\;--tw-border-spacing-y:0\;--tw-translate-x:0\;--tw-translate-y:0\;--tw-rotate:0\;--tw-skew-x:0\;--tw-skew-y:0\;--tw-scale-x:1\;--tw-scale-y:1\;--tw-pan-x: \;--tw-pan-y: \;--tw-pinch-zoom: \;--tw-scroll-snap-strictness:proximity\;--tw-gradient-from-position: \;--tw-gradient-via-position: \;--tw-gradient-to-position: \;--tw-ordinal: \;--tw-slashed-zero: \;--tw-numeric-figure: \;--tw-numeric-spacing: \;--tw-numeric-fraction: \;--tw-ring-inset: \;--tw-ring-offset-width:0px\;--tw-ring-offset-shadow:0 0 #0000\;--tw-ring-shadow:0 0 #0000\;--tw-shadow:0 0 #0000\;--tw-shadow-colored:0 0 #0000\;--tw-blur: \;--tw-brightness: \;--tw-contrast: \;--tw-grayscale: \;--tw-hue-rotate: \;--tw-invert: \;--tw-saturate: \;--tw-sepia: \;--tw-drop-shadow: \;--tw-backdrop-blur: \;--tw-backdrop-brightness: \;--tw-backdrop-contrast: \;--tw-backdrop-grayscale: \;--tw-backdrop-hue-rotate: \;--tw-backdrop-invert: \;--tw-backdrop-opacity: \;--tw-backdrop-saturate: \;--tw-backdrop-sepia: \;"><span style="font-size:11pt\;">Your website is more than just a digital presence - it&#39\;s your key to unlocking business success. Join us for a 90-minute class where Kim Ruiz from Expressly Written and Brook Borup from My Clone Solution will show you how to maximize your website&#39\;s power to generate leads\, convert customers\, and grow your business.</span></span><br />\n<span style="--tw-border-spacing-x:0\;--tw-border-spacing-y:0\;--tw-translate-x:0\;--tw-translate-y:0\;--tw-rotate:0\;--tw-skew-x:0\;--tw-skew-y:0\;--tw-scale-x:1\;--tw-scale-y:1\;--tw-pan-x: \;--tw-pan-y: \;--tw-pinch-zoom: \;--tw-scroll-snap-strictness:proximity\;--tw-gradient-from-position: \;--tw-gradient-via-position: \;--tw-gradient-to-position: \;--tw-ordinal: \;--tw-slashed-zero: \;--tw-numeric-figure: \;--tw-numeric-spacing: \;--tw-numeric-fraction: \;--tw-ring-inset: \;--tw-ring-offset-width:0px\;--tw-ring-offset-shadow:0 0 #0000\;--tw-ring-shadow:0 0 #0000\;--tw-shadow:0 0 #0000\;--tw-shadow-colored:0 0 #0000\;--tw-blur: \;--tw-brightness: \;--tw-contrast: \;--tw-grayscale: \;--tw-hue-rotate: \;--tw-invert: \;--tw-saturate: \;--tw-sepia: \;--tw-drop-shadow: \;--tw-backdrop-blur: \;--tw-backdrop-brightness: \;--tw-backdrop-contrast: \;--tw-backdrop-grayscale: \;--tw-backdrop-hue-rotate: \;--tw-backdrop-invert: \;--tw-backdrop-opacity: \;--tw-backdrop-saturate: \;--tw-backdrop-sepia: \;"><span style="font-size:11pt\;">In this session\, Kim and Brook will share their expert insights and a 15-point checklist to revolutionize your website strategy. From crafting compelling content to optimizing user experience\, they&#39\;ll cover everything you need to know to turn your website into a lead-generating machine.</span></span><br />\n<span style="--tw-border-spacing-x:0\;--tw-border-spacing-y:0\;--tw-translate-x:0\;--tw-translate-y:0\;--tw-rotate:0\;--tw-skew-x:0\;--tw-skew-y:0\;--tw-scale-x:1\;--tw-scale-y:1\;--tw-pan-x: \;--tw-pan-y: \;--tw-pinch-zoom: \;--tw-scroll-snap-strictness:proximity\;--tw-gradient-from-position: \;--tw-gradient-via-position: \;--tw-gradient-to-position: \;--tw-ordinal: \;--tw-slashed-zero: \;--tw-numeric-figure: \;--tw-numeric-spacing: \;--tw-numeric-fraction: \;--tw-ring-inset: \;--tw-ring-offset-width:0px\;--tw-ring-offset-shadow:0 0 #0000\;--tw-ring-shadow:0 0 #0000\;--tw-shadow:0 0 #0000\;--tw-shadow-colored:0 0 #0000\;--tw-blur: \;--tw-brightness: \;--tw-contrast: \;--tw-grayscale: \;--tw-hue-rotate: \;--tw-invert: \;--tw-saturate: \;--tw-sepia: \;--tw-drop-shadow: \;--tw-backdrop-blur: \;--tw-backdrop-brightness: \;--tw-backdrop-contrast: \;--tw-backdrop-grayscale: \;--tw-backdrop-hue-rotate: \;--tw-backdrop-invert: \;--tw-backdrop-opacity: \;--tw-backdrop-saturate: \;--tw-backdrop-sepia: \;"><span style="font-size:11pt\;">Here&#39\;s what you&#39\;ll learn:</span></span>\n<ul>\n	<li style="--tw-border-spacing-x:0\;--tw-border-spacing-y:0\;--tw-translate-x:0\;--tw-translate-y:0\;--tw-rotate:0\;--tw-skew-x:0\;--tw-skew-y:0\;--tw-scale-x:1\;--tw-scale-y:1\;--tw-pan-x: \;--tw-pan-y: \;--tw-pinch-zoom: \;--tw-scroll-snap-strictness:proximity\;--tw-gradient-from-position: \;--tw-gradient-via-position: \;--tw-gradient-to-position: \;--tw-ordinal: \;--tw-slashed-zero: \;--tw-numeric-figure: \;--tw-numeric-spacing: \;--tw-numeric-fraction: \;--tw-ring-inset: \;--tw-ring-offset-width:0px\;--tw-ring-offset-shadow:0 0 #0000\;--tw-ring-shadow:0 0 #0000\;--tw-shadow:0 0 #0000\;--tw-shadow-colored:0 0 #0000\;--tw-blur: \;--tw-brightness: \;--tw-contrast: \;--tw-grayscale: \;--tw-hue-rotate: \;--tw-invert: \;--tw-saturate: \;--tw-sepia: \;--tw-drop-shadow: \;--tw-backdrop-blur: \;--tw-backdrop-brightness: \;--tw-backdrop-contrast: \;--tw-backdrop-grayscale: \;--tw-backdrop-hue-rotate: \;--tw-backdrop-invert: \;--tw-backdrop-opacity: \;--tw-backdrop-saturate: \;--tw-backdrop-sepia: \;margin:0px 0px 0px 15px\;"><span style="--tw-border-spacing-x:0\;--tw-border-spacing-y:0\;--tw-translate-x:0\;--tw-translate-y:0\;--tw-rotate:0\;--tw-skew-x:0\;--tw-skew-y:0\;--tw-scale-x:1\;--tw-scale-y:1\;--tw-pan-x: \;--tw-pan-y: \;--tw-pinch-zoom: \;--tw-scroll-snap-strictness:proximity\;--tw-gradient-from-position: \;--tw-gradient-via-position: \;--tw-gradient-to-position: \;--tw-ordinal: \;--tw-slashed-zero: \;--tw-numeric-figure: \;--tw-numeric-spacing: \;--tw-numeric-fraction: \;--tw-ring-inset: \;--tw-ring-offset-width:0px\;--tw-ring-offset-shadow:0 0 #0000\;--tw-ring-shadow:0 0 #0000\;--tw-shadow:0 0 #0000\;--tw-shadow-colored:0 0 #0000\;--tw-blur: \;--tw-brightness: \;--tw-contrast: \;--tw-grayscale: \;--tw-hue-rotate: \;--tw-invert: \;--tw-saturate: \;--tw-sepia: \;--tw-drop-shadow: \;--tw-backdrop-blur: \;--tw-backdrop-brightness: \;--tw-backdrop-contrast: \;--tw-backdrop-grayscale: \;--tw-backdrop-hue-rotate: \;--tw-backdrop-invert: \;--tw-backdrop-opacity: \;--tw-backdrop-saturate: \;--tw-backdrop-sepia: \;"><span style="font-size:11pt\;">Why a killer website is essential for business success</span></span></li>\n	<li style="--tw-border-spacing-x:0\;--tw-border-spacing-y:0\;--tw-translate-x:0\;--tw-translate-y:0\;--tw-rotate:0\;--tw-skew-x:0\;--tw-skew-y:0\;--tw-scale-x:1\;--tw-scale-y:1\;--tw-pan-x: \;--tw-pan-y: \;--tw-pinch-zoom: \;--tw-scroll-snap-strictness:proximity\;--tw-gradient-from-position: \;--tw-gradient-via-position: \;--tw-gradient-to-position: \;--tw-ordinal: \;--tw-slashed-zero: \;--tw-numeric-figure: \;--tw-numeric-spacing: \;--tw-numeric-fraction: \;--tw-ring-inset: \;--tw-ring-offset-width:0px\;--tw-ring-offset-shadow:0 0 #0000\;--tw-ring-shadow:0 0 #0000\;--tw-shadow:0 0 #0000\;--tw-shadow-colored:0 0 #0000\;--tw-blur: \;--tw-brightness: \;--tw-contrast: \;--tw-grayscale: \;--tw-hue-rotate: \;--tw-invert: \;--tw-saturate: \;--tw-sepia: \;--tw-drop-shadow: \;--tw-backdrop-blur: \;--tw-backdrop-brightness: \;--tw-backdrop-contrast: \;--tw-backdrop-grayscale: \;--tw-backdrop-hue-rotate: \;--tw-backdrop-invert: \;--tw-backdrop-opacity: \;--tw-backdrop-saturate: \;--tw-backdrop-sepia: \;margin:0px 0px 0px 15px\;"><span style="--tw-border-spacing-x:0\;--tw-border-spacing-y:0\;--tw-translate-x:0\;--tw-translate-y:0\;--tw-rotate:0\;--tw-skew-x:0\;--tw-skew-y:0\;--tw-scale-x:1\;--tw-scale-y:1\;--tw-pan-x: \;--tw-pan-y: \;--tw-pinch-zoom: \;--tw-scroll-snap-strictness:proximity\;--tw-gradient-from-position: \;--tw-gradient-via-position: \;--tw-gradient-to-position: \;--tw-ordinal: \;--tw-slashed-zero: \;--tw-numeric-figure: \;--tw-numeric-spacing: \;--tw-numeric-fraction: \;--tw-ring-inset: \;--tw-ring-offset-width:0px\;--tw-ring-offset-shadow:0 0 #0000\;--tw-ring-shadow:0 0 #0000\;--tw-shadow:0 0 #0000\;--tw-shadow-colored:0 0 #0000\;--tw-blur: \;--tw-brightness: \;--tw-contrast: \;--tw-grayscale: \;--tw-hue-rotate: \;--tw-invert: \;--tw-saturate: \;--tw-sepia: \;--tw-drop-shadow: \;--tw-backdrop-blur: \;--tw-backdrop-brightness: \;--tw-backdrop-contrast: \;--tw-backdrop-grayscale: \;--tw-backdrop-hue-rotate: \;--tw-backdrop-invert: \;--tw-backdrop-opacity: \;--tw-backdrop-saturate: \;--tw-backdrop-sepia: \;"><span style="font-size:11pt\;">How to infuse your website with your unique brand identity</span></span></li>\n	<li style="--tw-border-spacing-x:0\;--tw-border-spacing-y:0\;--tw-translate-x:0\;--tw-translate-y:0\;--tw-rotate:0\;--tw-skew-x:0\;--tw-skew-y:0\;--tw-scale-x:1\;--tw-scale-y:1\;--tw-pan-x: \;--tw-pan-y: \;--tw-pinch-zoom: \;--tw-scroll-snap-strictness:proximity\;--tw-gradient-from-position: \;--tw-gradient-via-position: \;--tw-gradient-to-position: \;--tw-ordinal: \;--tw-slashed-zero: \;--tw-numeric-figure: \;--tw-numeric-spacing: \;--tw-numeric-fraction: \;--tw-ring-inset: \;--tw-ring-offset-width:0px\;--tw-ring-offset-shadow:0 0 #0000\;--tw-ring-shadow:0 0 #0000\;--tw-shadow:0 0 #0000\;--tw-shadow-colored:0 0 #0000\;--tw-blur: \;--tw-brightness: \;--tw-contrast: \;--tw-grayscale: \;--tw-hue-rotate: \;--tw-invert: \;--tw-saturate: \;--tw-sepia: \;--tw-drop-shadow: \;--tw-backdrop-blur: \;--tw-backdrop-brightness: \;--tw-backdrop-contrast: \;--tw-backdrop-grayscale: \;--tw-backdrop-hue-rotate: \;--tw-backdrop-invert: \;--tw-backdrop-opacity: \;--tw-backdrop-saturate: \;--tw-backdrop-sepia: \;margin:0px 0px 0px 15px\;"><span style="--tw-border-spacing-x:0\;--tw-border-spacing-y:0\;--tw-translate-x:0\;--tw-translate-y:0\;--tw-rotate:0\;--tw-skew-x:0\;--tw-skew-y:0\;--tw-scale-x:1\;--tw-scale-y:1\;--tw-pan-x: \;--tw-pan-y: \;--tw-pinch-zoom: \;--tw-scroll-snap-strictness:proximity\;--tw-gradient-from-position: \;--tw-gradient-via-position: \;--tw-gradient-to-position: \;--tw-ordinal: \;--tw-slashed-zero: \;--tw-numeric-figure: \;--tw-numeric-spacing: \;--tw-numeric-fraction: \;--tw-ring-inset: \;--tw-ring-offset-width:0px\;--tw-ring-offset-shadow:0 0 #0000\;--tw-ring-shadow:0 0 #0000\;--tw-shadow:0 0 #0000\;--tw-shadow-colored:0 0 #0000\;--tw-blur: \;--tw-brightness: \;--tw-contrast: \;--tw-grayscale: \;--tw-hue-rotate: \;--tw-invert: \;--tw-saturate: \;--tw-sepia: \;--tw-drop-shadow: \;--tw-backdrop-blur: \;--tw-backdrop-brightness: \;--tw-backdrop-contrast: \;--tw-backdrop-grayscale: \;--tw-backdrop-hue-rotate: \;--tw-backdrop-invert: \;--tw-backdrop-opacity: \;--tw-backdrop-saturate: \;--tw-backdrop-sepia: \;"><span style="font-size:11pt\;">The must-have features for driving conversions and sales</span></span></li>\n	<li style="--tw-border-spacing-x:0\;--tw-border-spacing-y:0\;--tw-translate-x:0\;--tw-translate-y:0\;--tw-rotate:0\;--tw-skew-x:0\;--tw-skew-y:0\;--tw-scale-x:1\;--tw-scale-y:1\;--tw-pan-x: \;--tw-pan-y: \;--tw-pinch-zoom: \;--tw-scroll-snap-strictness:proximity\;--tw-gradient-from-position: \;--tw-gradient-via-position: \;--tw-gradient-to-position: \;--tw-ordinal: \;--tw-slashed-zero: \;--tw-numeric-figure: \;--tw-numeric-spacing: \;--tw-numeric-fraction: \;--tw-ring-inset: \;--tw-ring-offset-width:0px\;--tw-ring-offset-shadow:0 0 #0000\;--tw-ring-shadow:0 0 #0000\;--tw-shadow:0 0 #0000\;--tw-shadow-colored:0 0 #0000\;--tw-blur: \;--tw-brightness: \;--tw-contrast: \;--tw-grayscale: \;--tw-hue-rotate: \;--tw-invert: \;--tw-saturate: \;--tw-sepia: \;--tw-drop-shadow: \;--tw-backdrop-blur: \;--tw-backdrop-brightness: \;--tw-backdrop-contrast: \;--tw-backdrop-grayscale: \;--tw-backdrop-hue-rotate: \;--tw-backdrop-invert: \;--tw-backdrop-opacity: \;--tw-backdrop-saturate: \;--tw-backdrop-sepia: \;margin:0px 0px 0px 15px\;"><span style="--tw-border-spacing-x:0\;--tw-border-spacing-y:0\;--tw-translate-x:0\;--tw-translate-y:0\;--tw-rotate:0\;--tw-skew-x:0\;--tw-skew-y:0\;--tw-scale-x:1\;--tw-scale-y:1\;--tw-pan-x: \;--tw-pan-y: \;--tw-pinch-zoom: \;--tw-scroll-snap-strictness:proximity\;--tw-gradient-from-position: \;--tw-gradient-via-position: \;--tw-gradient-to-position: \;--tw-ordinal: \;--tw-slashed-zero: \;--tw-numeric-figure: \;--tw-numeric-spacing: \;--tw-numeric-fraction: \;--tw-ring-inset: \;--tw-ring-offset-width:0px\;--tw-ring-offset-shadow:0 0 #0000\;--tw-ring-shadow:0 0 #0000\;--tw-shadow:0 0 #0000\;--tw-shadow-colored:0 0 #0000\;--tw-blur: \;--tw-brightness: \;--tw-contrast: \;--tw-grayscale: \;--tw-hue-rotate: \;--tw-invert: \;--tw-saturate: \;--tw-sepia: \;--tw-drop-shadow: \;--tw-backdrop-blur: \;--tw-backdrop-brightness: \;--tw-backdrop-contrast: \;--tw-backdrop-grayscale: \;--tw-backdrop-hue-rotate: \;--tw-backdrop-invert: \;--tw-backdrop-opacity: \;--tw-backdrop-saturate: \;--tw-backdrop-sepia: \;"><span style="font-size:11pt\;">Pro tips for effective website planning and maintenance</span></span></li>\n	<li style="--tw-border-spacing-x:0\;--tw-border-spacing-y:0\;--tw-translate-x:0\;--tw-translate-y:0\;--tw-rotate:0\;--tw-skew-x:0\;--tw-skew-y:0\;--tw-scale-x:1\;--tw-scale-y:1\;--tw-pan-x: \;--tw-pan-y: \;--tw-pinch-zoom: \;--tw-scroll-snap-strictness:proximity\;--tw-gradient-from-position: \;--tw-gradient-via-position: \;--tw-gradient-to-position: \;--tw-ordinal: \;--tw-slashed-zero: \;--tw-numeric-figure: \;--tw-numeric-spacing: \;--tw-numeric-fraction: \;--tw-ring-inset: \;--tw-ring-offset-width:0px\;--tw-ring-offset-shadow:0 0 #0000\;--tw-ring-shadow:0 0 #0000\;--tw-shadow:0 0 #0000\;--tw-shadow-colored:0 0 #0000\;--tw-blur: \;--tw-brightness: \;--tw-contrast: \;--tw-grayscale: \;--tw-hue-rotate: \;--tw-invert: \;--tw-saturate: \;--tw-sepia: \;--tw-drop-shadow: \;--tw-backdrop-blur: \;--tw-backdrop-brightness: \;--tw-backdrop-contrast: \;--tw-backdrop-grayscale: \;--tw-backdrop-hue-rotate: \;--tw-backdrop-invert: \;--tw-backdrop-opacity: \;--tw-backdrop-saturate: \;--tw-backdrop-sepia: \;margin:0px 0px 0px 15px\;"><span style="--tw-border-spacing-x:0\;--tw-border-spacing-y:0\;--tw-translate-x:0\;--tw-translate-y:0\;--tw-rotate:0\;--tw-skew-x:0\;--tw-skew-y:0\;--tw-scale-x:1\;--tw-scale-y:1\;--tw-pan-x: \;--tw-pan-y: \;--tw-pinch-zoom: \;--tw-scroll-snap-strictness:proximity\;--tw-gradient-from-position: \;--tw-gradient-via-position: \;--tw-gradient-to-position: \;--tw-ordinal: \;--tw-slashed-zero: \;--tw-numeric-figure: \;--tw-numeric-spacing: \;--tw-numeric-fraction: \;--tw-ring-inset: \;--tw-ring-offset-width:0px\;--tw-ring-offset-shadow:0 0 #0000\;--tw-ring-shadow:0 0 #0000\;--tw-shadow:0 0 #0000\;--tw-shadow-colored:0 0 #0000\;--tw-blur: \;--tw-brightness: \;--tw-contrast: \;--tw-grayscale: \;--tw-hue-rotate: \;--tw-invert: \;--tw-saturate: \;--tw-sepia: \;--tw-drop-shadow: \;--tw-backdrop-blur: \;--tw-backdrop-brightness: \;--tw-backdrop-contrast: \;--tw-backdrop-grayscale: \;--tw-backdrop-hue-rotate: \;--tw-backdrop-invert: \;--tw-backdrop-opacity: \;--tw-backdrop-saturate: \;--tw-backdrop-sepia: \;"><span style="font-size:11pt\;">Strategies for turning visitors into loyal customers</span></span></li>\n	<li style="--tw-border-spacing-x:0\;--tw-border-spacing-y:0\;--tw-translate-x:0\;--tw-translate-y:0\;--tw-rotate:0\;--tw-skew-x:0\;--tw-skew-y:0\;--tw-scale-x:1\;--tw-scale-y:1\;--tw-pan-x: \;--tw-pan-y: \;--tw-pinch-zoom: \;--tw-scroll-snap-strictness:proximity\;--tw-gradient-from-position: \;--tw-gradient-via-position: \;--tw-gradient-to-position: \;--tw-ordinal: \;--tw-slashed-zero: \;--tw-numeric-figure: \;--tw-numeric-spacing: \;--tw-numeric-fraction: \;--tw-ring-inset: \;--tw-ring-offset-width:0px\;--tw-ring-offset-shadow:0 0 #0000\;--tw-ring-shadow:0 0 #0000\;--tw-shadow:0 0 #0000\;--tw-shadow-colored:0 0 #0000\;--tw-blur: \;--tw-brightness: \;--tw-contrast: \;--tw-grayscale: \;--tw-hue-rotate: \;--tw-invert: \;--tw-saturate: \;--tw-sepia: \;--tw-drop-shadow: \;--tw-backdrop-blur: \;--tw-backdrop-brightness: \;--tw-backdrop-contrast: \;--tw-backdrop-grayscale: \;--tw-backdrop-hue-rotate: \;--tw-backdrop-invert: \;--tw-backdrop-opacity: \;--tw-backdrop-saturate: \;--tw-backdrop-sepia: \;margin:0px 0px 0px 15px\;"><span style="--tw-border-spacing-x:0\;--tw-border-spacing-y:0\;--tw-translate-x:0\;--tw-translate-y:0\;--tw-rotate:0\;--tw-skew-x:0\;--tw-skew-y:0\;--tw-scale-x:1\;--tw-scale-y:1\;--tw-pan-x: \;--tw-pan-y: \;--tw-pinch-zoom: \;--tw-scroll-snap-strictness:proximity\;--tw-gradient-from-position: \;--tw-gradient-via-position: \;--tw-gradient-to-position: \;--tw-ordinal: \;--tw-slashed-zero: \;--tw-numeric-figure: \;--tw-numeric-spacing: \;--tw-numeric-fraction: \;--tw-ring-inset: \;--tw-ring-offset-width:0px\;--tw-ring-offset-shadow:0 0 #0000\;--tw-ring-shadow:0 0 #0000\;--tw-shadow:0 0 #0000\;--tw-shadow-colored:0 0 #0000\;--tw-blur: \;--tw-brightness: \;--tw-contrast: \;--tw-grayscale: \;--tw-hue-rotate: \;--tw-invert: \;--tw-saturate: \;--tw-sepia: \;--tw-drop-shadow: \;--tw-backdrop-blur: \;--tw-backdrop-brightness: \;--tw-backdrop-contrast: \;--tw-backdrop-grayscale: \;--tw-backdrop-hue-rotate: \;--tw-backdrop-invert: \;--tw-backdrop-opacity: \;--tw-backdrop-saturate: \;--tw-backdrop-sepia: \;"><span style="font-size:11pt\;">Tactics for driving traffic and boosting visibility</span></span></li>\n</ul>\n<span style="--tw-border-spacing-x:0\;--tw-border-spacing-y:0\;--tw-translate-x:0\;--tw-translate-y:0\;--tw-rotate:0\;--tw-skew-x:0\;--tw-skew-y:0\;--tw-scale-x:1\;--tw-scale-y:1\;--tw-pan-x: \;--tw-pan-y: \;--tw-pinch-zoom: \;--tw-scroll-snap-strictness:proximity\;--tw-gradient-from-position: \;--tw-gradient-via-position: \;--tw-gradient-to-position: \;--tw-ordinal: \;--tw-slashed-zero: \;--tw-numeric-figure: \;--tw-numeric-spacing: \;--tw-numeric-fraction: \;--tw-ring-inset: \;--tw-ring-offset-width:0px\;--tw-ring-offset-shadow:0 0 #0000\;--tw-ring-shadow:0 0 #0000\;--tw-shadow:0 0 #0000\;--tw-shadow-colored:0 0 #0000\;--tw-blur: \;--tw-brightness: \;--tw-contrast: \;--tw-grayscale: \;--tw-hue-rotate: \;--tw-invert: \;--tw-saturate: \;--tw-sepia: \;--tw-drop-shadow: \;--tw-backdrop-blur: \;--tw-backdrop-brightness: \;--tw-backdrop-contrast: \;--tw-backdrop-grayscale: \;--tw-backdrop-hue-rotate: \;--tw-backdrop-invert: \;--tw-backdrop-opacity: \;--tw-backdrop-saturate: \;--tw-backdrop-sepia: \;"><span style="font-size:11pt\;">Don&#39\;t miss out on this opportunity to take your website from good to great. Whether you&#39\;re just starting out or looking to level up your online presence\, this class is your roadmap to success. Sign up now and unleash the full potential of your website!</span></span><br />\n&nbsp\;<br />\n&nbsp\;
LOCATION:Paschall Blanc Art Studio 1114 E. Bloomingdale Ave. Valrico FL 33596
UID:e.3220.7166
SEQUENCE:3
DTSTAMP:20260420T051919Z
URL:https://business.valricofishhawk.org/events/details/vfcc-university-business-management-series-presenter-kim-ruiz-expressly-written-brook-borup-my-clone-solution-7166
END:VEVENT

END:VCALENDAR
