BEGIN:VCALENDAR
VERSION:2.0
PRODID:-//ChamberMaster//Event Calendar 2.0//EN
METHOD:PUBLISH
X-PUBLISHED-TTL:P3D
REFRESH-INTERVAL:P3D
CALSCALE:GREGORIAN
BEGIN:VEVENT
DTSTART:20190215T163000Z
DTEND:20190215T180000Z
X-MICROSOFT-CDO-ALLDAYEVENT:FALSE
SUMMARY:VFCCU 2019 "Goal Setting"
DESCRIPTION:Goal Setting\n\n2019 Roadmap Planning - 5 keys to your roadmap success.\n\n\n\nIt's a new year. A chance for a fresh start. This workshop will help you map out your goals for a successful journey in 2019.\n\n\n\nShannon spent a weeklong road trip before the new year learning and establishing 5 keys to creating a useful roadmap to help you on your journey of making your 2019 wildly successful for you!
X-ALT-DESC;FMTTYPE=text/html:<span style="font-family:tahoma\;"><strong>Goal Setting</strong></span><br />\n<span background-color:="" style="font-family: system-ui\, -apple-system\, system-ui\, " white-space:="">2019 Roadmap Planning - 5 keys to your roadmap success.<br />\n<br />\nIt&#39\;s a new year. A chance for a fresh start. This workshop will help you map out your goals for a successful journey in 2019.<br />\n<br />\nShannon spent a weeklong road trip before the new year learning and establishing <strong>5 keys to creating a useful roadmap</strong> to help you&nbsp\;on your journey of making your 2019 wildly successful for you!</span><br />\n<br />\n<br />\n<br />\n<br />\n<br />\n&nbsp\;
LOCATION:The Bloomingdale Library - 1906 Bloomingdale Ave\, Valrico\, FL 33596
UID:e.3220.1897
SEQUENCE:3
DTSTAMP:20260424T115805Z
URL:https://business.valricofishhawk.org/events/details/vfccu-2019-goal-setting-1897
END:VEVENT

END:VCALENDAR
