BEGIN:VCALENDAR
VERSION:2.0
PRODID:-//ChamberMaster//Event Calendar 2.0//EN
METHOD:PUBLISH
X-PUBLISHED-TTL:P3D
REFRESH-INTERVAL:P3D
CALSCALE:GREGORIAN
BEGIN:VEVENT
DTSTART:20210326T153000Z
DTEND:20210326T170000Z
X-MICROSOFT-CDO-ALLDAYEVENT:FALSE
SUMMARY:VFCCU 2021 "Creating Content for Your Customer’s Journey"
DESCRIPTION:Engaging the right customers at the right time through effective content is the key to piquing interest\, increasing sales\, and creating die-hard fans who will repeat purchases and refer you again and again.  It's time to focus on Creating Content for Your Customer's Journey!\n\n\n\nWe know that to market to our prospective or current customers\, we should produce high-quality content. But what exactly makes content good to our customers? How do you know as you are creating content that your customers will connect to it?\n\n\n\nJoin Geneva Maresma\, a Tampa-based copywriter and business strategist\, for a workshop that will teach you how to use a customer journey map as a tool to spark the right words for creation of stellar content! When your customers feel you are saying exactly what they need to hear\, you will reap higher interest\, sales\, and loyalty.\n\n\n\nIn this presentation\, you will learn:\n\n  The five stages of your customer's journey.\n\n  What your customer's needs and expectations are of you through each stage.\n\n  The types of content that are relevant and resonate at each level of the journey.\n\n  How to make your clients stop scrolling their feeds and give their attention to you.\n\n  How to strategically write content that leaves "breadcrumbs" to the next step of the customer journey.\n\n  How to keep a constant stream of ideas for content creation\, so you never sit with writer's block again!
X-ALT-DESC;FMTTYPE=text/html:Engaging the right customers at the right time through effective content is the key to&nbsp\;piquing interest\, increasing sales\, and creating die-hard fans who will repeat purchases and&nbsp\;refer you again and again.&nbsp\; It&#39\;s time to focus on&nbsp\;Creating Content for Your Customer&rsquo\;s Journey!<br />\n<br />\nWe know that to market to our prospective or current customers\, we should produce high-quality content. But what exactly makes content good to our customers? How do you know as you are creating content that your customers will connect to it?<br />\n<br />\nJoin Geneva Maresma\, a Tampa-based copywriter and business strategist\, for a workshop that will teach you how to use a customer journey map as a tool to spark the right words for creation of stellar content! When your customers feel you are saying exactly what they need to hear\, you will reap higher interest\, sales\, and loyalty.<br />\n<br />\nIn this presentation\, you will learn:<br />\n&#9679\; The five stages of your customer&rsquo\;s journey.<br />\n&#9679\; What your customer&rsquo\;s needs and expectations are of you through each stage.<br />\n&#9679\; The types of content that are relevant and resonate at each level of the journey.<br />\n&#9679\; How to make your clients stop scrolling their feeds and give their attention to you.<br />\n&#9679\; How to strategically write content that leaves &ldquo\;breadcrumbs&rdquo\; to the next step of the customer journey.<br />\n&#9679\; How to keep a constant stream of ideas for content creation\, so you never sit with writer&rsquo\;s block again!
LOCATION:Girls With Confidence LLC 10540 Browning Road Lithia\, FL 33547
UID:e.3220.5189
SEQUENCE:3
DTSTAMP:20260422T204552Z
URL:https://business.valricofishhawk.org/events/details/vfccu-2021-creating-content-for-your-customer-s-journey-5189
END:VEVENT

END:VCALENDAR
