BEGIN:VCALENDAR
VERSION:2.0
PRODID:-//ChamberMaster//Event Calendar 2.0//EN
METHOD:PUBLISH
X-PUBLISHED-TTL:P3D
REFRESH-INTERVAL:P3D
CALSCALE:GREGORIAN
BEGIN:VEVENT
DTSTART:20210416T153000Z
DTEND:20210416T170000Z
X-MICROSOFT-CDO-ALLDAYEVENT:FALSE
SUMMARY:VFCCU 2021 "Use Your Words! Tips and Guidance on Using the Right Words for Your Target Audience"
DESCRIPTION:Understanding your audience is key in business\, and there are multiple ways to reach them with your words. Learn about the different types of business communication and how the right words and the right medium can benefit you.\n\n \n\nKim Ruiz\, owner of Expressly Written\, will show you how you should be using your website content\, emails\, flyers\, bio's and more to increase your potential client's interest in your business. Don't let poorly written content turn them away before they even hear what you have to say. She'll walk us through the different types of written communication and share ideas on how to tailor our words to make the most out of our marketing efforts.
X-ALT-DESC;FMTTYPE=text/html:<div style="color: rgb(80\, 0\, 80)\; font-family: Arial\, Helvetica\, sans-serif\; font-size: small\; direction: ltr\;"><span style="color:#000000\;"><span style="font-size:14px\;"><span style="font-family:arial\;">Understanding your audience is key in business\, and there are multiple ways to reach them with your words. Learn about the different types of business communication and how the right words and the right medium can benefit you.</span></span></span></div>\n\n<div style="color: rgb(80\, 0\, 80)\; font-family: Arial\, Helvetica\, sans-serif\; font-size: small\; direction: ltr\;">&nbsp\;</div>\n\n<div style="color: rgb(80\, 0\, 80)\; font-family: Arial\, Helvetica\, sans-serif\; font-size: small\; direction: ltr\;"><span style="color:#000000\;"><span style="font-size:14px\;"><span style="font-family:arial\;">Kim Ruiz\, owner of Expressly Written\, will show you how you should be using your website content\, emails\, flyers\, bio&rsquo\;s and more to increase your potential client&rsquo\;s interest in your business. Don&rsquo\;t let poorly written content turn them away before they even hear what you have to say. She&rsquo\;ll walk us through the different types of written communication and share ideas on how to tailor our words to make the most out of our marketing efforts.</span></span></span></div>\n
LOCATION:Girls With Confidence LLC 10540 Browning Road Lithia\, FL 33547
UID:e.3220.5190
SEQUENCE:3
DTSTAMP:20260422T191330Z
URL:https://business.valricofishhawk.org/events/details/vfccu-2021-use-your-words-tips-and-guidance-on-using-the-right-words-for-your-target-audience-5190
END:VEVENT

END:VCALENDAR
